BEGIN:VCALENDAR
VERSION:2.0
PRODID:-//Fresh Energy - ECPv6.15.17//NONSGML v1.0//EN
CALSCALE:GREGORIAN
METHOD:PUBLISH
X-WR-CALNAME:Fresh Energy
X-ORIGINAL-URL:https://fresh-energy.org
X-WR-CALDESC:Events for Fresh Energy
REFRESH-INTERVAL;VALUE=DURATION:PT1H
X-Robots-Tag:noindex
X-PUBLISHED-TTL:PT1H
BEGIN:VTIMEZONE
TZID:America/North_Dakota/Center
BEGIN:DAYLIGHT
TZOFFSETFROM:-0600
TZOFFSETTO:-0500
TZNAME:CDT
DTSTART:20240310T080000
END:DAYLIGHT
BEGIN:STANDARD
TZOFFSETFROM:-0500
TZOFFSETTO:-0600
TZNAME:CST
DTSTART:20241103T070000
END:STANDARD
BEGIN:DAYLIGHT
TZOFFSETFROM:-0600
TZOFFSETTO:-0500
TZNAME:CDT
DTSTART:20250309T080000
END:DAYLIGHT
BEGIN:STANDARD
TZOFFSETFROM:-0500
TZOFFSETTO:-0600
TZNAME:CST
DTSTART:20251102T070000
END:STANDARD
BEGIN:DAYLIGHT
TZOFFSETFROM:-0600
TZOFFSETTO:-0500
TZNAME:CDT
DTSTART:20260308T080000
END:DAYLIGHT
BEGIN:STANDARD
TZOFFSETFROM:-0500
TZOFFSETTO:-0600
TZNAME:CST
DTSTART:20261101T070000
END:STANDARD
END:VTIMEZONE
BEGIN:VEVENT
DTSTART;TZID=America/North_Dakota/Center:20251203T120000
DTEND;TZID=America/North_Dakota/Center:20251203T130000
DTSTAMP:20260421T063726
CREATED:20251017T152926Z
LAST-MODIFIED:20251203T193140Z
UID:625040-1764763200-1764766800@fresh-energy.org
SUMMARY:COP30 and Fresh Energy: A Discussion with J. Drake Hamilton
DESCRIPTION:The 30th Conference of the Parties (COP30) to the United Nations Framework Convention on Climate Change will be held in Belem\, Brazil from November 10-21\, 2025. J. Drake Hamilton\, managing director\, science policy at Fresh Energy\, will be attending the conference virtually. She will be posting blogs every weekday\, letting you know the biggest actions to watch. \n\n\n\nRegister now for Fresh Energy’s COP30 webinar after the conference to get the scoop from J. as she debriefs outcomes and answers your questions about the event. \n\n\n\nNote: All registrants will be sent reminder emails before the webinar and a recording afterward. \n\n\n\nSign up for the webinar below.
URL:https://fresh-energy.org/event/cop30-and-fresh-energy-a-discussion-with-j-drake-hamilton
ATTACH;FMTTYPE=image/png:https://fresh-energy.org/wp-content/uploads/2025/10/COP30-webinar-header.png
END:VEVENT
BEGIN:VEVENT
DTSTART;TZID=America/North_Dakota/Center:20251204T104500
DTEND;TZID=America/North_Dakota/Center:20251204T173000
DTSTAMP:20260421T063726
CREATED:20251105T194742Z
LAST-MODIFIED:20251125T144155Z
UID:625105-1764845100-1764869400@fresh-energy.org
SUMMARY:Nonprofit Board Lab 2025
DESCRIPTION:The Nonprofit Board Lab is built on the principle of iron sharpening iron—bringing together nonprofit leaders\, board members\, philanthropic partners\, and corporate board placement professionals for open exchange\, peer dialogue\, and connections that extend across the nonprofit ecosystem. Through interactive sessions\, participants listen\, share perspectives\, and learn from one another. Designed so you walk away with insights and tools to strengthen board governance\, empower leadership\, and operate with strategic flexibility. \n\n\n\nFresh Energy’s CEO\, Margaret Cherne-Hendrick\, is a featured speaker for the Strategic Flexibility Lab Session. In this session speakers will clarify the board’s role in planning\, oversight\, and organizational alignment\, explore strategy in three realms\, developing the plan\, executing the plan and abandoning the plan when strategic pivot is required and explore a range of planning models—from nimble approaches for smaller organizations to structured frameworks for larger institutions—and learn how to choose the right fit based on capacity\, complexity\, and mission need. \n\n\n\n\n\n\n\nLearn more
URL:https://fresh-energy.org/event/nonprofit-board-lab-2025
ATTACH;FMTTYPE=image/png:https://fresh-energy.org/wp-content/uploads/2025/11/Untitled.png
END:VEVENT
BEGIN:VEVENT
DTSTART;TZID=America/North_Dakota/Center:20251204T170000
DTEND;TZID=America/North_Dakota/Center:20251204T190000
DTSTAMP:20260421T063726
CREATED:20251029T154601Z
LAST-MODIFIED:20251029T155538Z
UID:625098-1764867600-1764874800@fresh-energy.org
SUMMARY:Cumulative impacts engagement open house - Twin Cities
DESCRIPTION:Join the Minnesota Pollution Control Agency (MPCA) in Minneapolis for an opportunity to discuss the MPCA’s public engagement and timeline of the cumulative impacts rulemaking process. At this open house\, they will discuss their engagement practices thus far in the rulemaking process\, share information\, and answer questions about upcoming major milestones in the rulemaking timeline. Posters will be on display featuring the timeline of the rule’s development and implementation\, the public’s input\, and past engagement efforts by the MPCA. The MPCA’s cumulative impacts engagement team will be available to have conversations with the public about the information presented and general inquiries related to the rule and the rulemaking timeline moving forward. \n\n\n\nAll are welcome to join regardless of prior involvement or knowledge of this rule. Families and children are welcome. Food will be provided on a first-come\, first-served basis. \n\n\n\nGet the details!
URL:https://fresh-energy.org/event/cumulative-impacts-engagement-open-house-twin-cities
ATTACH;FMTTYPE=image/png:https://fresh-energy.org/wp-content/uploads/2025/10/Untitled-1-1.png
END:VEVENT
BEGIN:VEVENT
DTSTART;TZID=America/North_Dakota/Center:20251208T100000
DTEND;TZID=America/North_Dakota/Center:20251208T110000
DTSTAMP:20260421T063726
CREATED:20251119T211620Z
LAST-MODIFIED:20251121T025017Z
UID:626715-1765188000-1765191600@fresh-energy.org
SUMMARY:Webinar: Innovative financing for clean energy projects
DESCRIPTION:The finance landscape for clean energy projects has changed dramatically\, but organizations\, institutions\, and businesses are still moving forward with planning (and building) clean energy projects that include clean energy technologies such as heat pumps\, geothermal\, solar\, wind\, weatherization\, and beyond. What are innovative approaches to financing that can help fund these projects?  Join Fresh Energy for a virtual conversation about financing these projects with Community Reinvestment Fund\, Sunrise Banks\, and the Minnesota Climate Innovation Finance Authority (MnCIFA) — all financial institutions that focus on lending for clean energy projects. Tune in for a brief program and then bring your questions\, projects\, project ideas\, and thoughts for a robust conversation and Q&A. \n\n\n\nAgenda:10 to 10:20 a.m.: Welcome\, introductions\, and background10:20 to 11 a.m.: Discussion and Q&A with participants \n\n\n\nGuests:Erin Chase\, Director of Lending\, Community Reinvestment FundKari Groth Swan\, Executive Director at Minnesota Climate Innovation Finance Authority (MnCIFA)Tyler Vogel\, National Policy Manager\, Community Reinvestment FundLaura Wildenborg\, VP of Strategic Lending at Sunrise Banks
URL:https://fresh-energy.org/event/webinar-innovative-financing-for-clean-energy-projects
ATTACH;FMTTYPE=image/png:https://fresh-energy.org/wp-content/uploads/2025/11/Innovative-Financing-for-Clean-Energy-Projects-112025-1280x720-1.png
END:VEVENT
END:VCALENDAR